BEGIN:VCALENDAR
VERSION:2.0
PRODID:-//ChamberMaster//Event Calendar 2.0//EN
METHOD:PUBLISH
X-PUBLISHED-TTL:P3D
REFRESH-INTERVAL:P3D
CALSCALE:GREGORIAN
BEGIN:VEVENT
DTSTART:20260626T120000Z
DTEND:20260626T160000Z
X-MICROSOFT-CDO-ALLDAYEVENT:FALSE
SUMMARY:SWA Business PowerNet Conference 2026
DESCRIPTION:Join the Solid Waste Authority of Palm Beach County for a networking opportunity to learn how to do business with local governmental agencies. Following breakfast\, attendees will learn about upcoming SWA business opportunities\, how to register as a vendor to get government contracts\, and how to participate in the SWA's Equal Business Opportunity program.\n\n \n\nThere will be three networking breakout sessions focusing on professional services\, goods/services and construction.
X-ALT-DESC;FMTTYPE=text/html:Join the Solid Waste Authority of Palm Beach County for a networking opportunity to learn how to do business with local governmental agencies. Following breakfast\, attendees will learn about upcoming SWA business opportunities\, how to register as a vendor to get government contracts\, and how to participate in the SWA&rsquo\;s Equal Business Opportunity program.<br />\n&nbsp\;<br />\nThere will be three networking breakout sessions focusing on professional services\, goods/services and construction.
LOCATION:Embassy Suites Hotel 1601 Belvedere Road West Palm Beach\, FL 33406
UID:e.727.59123
SEQUENCE:3
DTSTAMP:20260419T162053Z
URL:http://membership.npbchamber.com/events/details/swa-business-powernet-conference-2026-59123
END:VEVENT

END:VCALENDAR
