BEGIN:VCALENDAR
VERSION:2.0
PRODID:-//ChamberMaster//Event Calendar 2.0//EN
METHOD:PUBLISH
X-PUBLISHED-TTL:P3D
REFRESH-INTERVAL:P3D
CALSCALE:GREGORIAN
BEGIN:VEVENT
DTSTART:20260510T160000Z
DTEND:20260510T183000Z
X-MICROSOFT-CDO-ALLDAYEVENT:FALSE
SUMMARY:Mother's Day at AYRE by Karma
DESCRIPTION:SINGER ISLAND   This Mother's Day\, families will embark on a culinary escape to India at AYRE by Karma. No passport required.\n\nLocated at Amrit Ocean Resort overlooking the Atlantic Ocean\, AYRE's executive chef Asif Syed will present a family-style\, three-course prix fixe menu blending signature Indian flavors with contemporary coastal flair.\n\nStarter options include Lukhmi\, a crispy\, deep-fried pastry filled with spiced lamb\, Dahi Bhalla\, chilled lentil fritters dipped in homemade yogurt\, Chicken Jodhpur\, tandoori-roasted and layered with the chef's signature spice blend\, and Crab and Avocado Causa served chilled with cr me fraiche and mango chutney.\n\nMain courses are a love letter to regional Indian cuisine: Stuffed Tandoori Chicken Roulade\, yogurt-marinated with spinach and fenugreek\, Grilled Branzino\, tandoori-marinated and fire-roasted\, Goan Prawn Balch o\, with tangy chilis\, Kashmiri Gushtaba\, tender lamb meatballs in a saffron yogurt gravy\, Paneer Musallam\, roasted paneer in a saffron-almond sauce\, and Lucknowi Vegetable Biryani\, fragrant basmati rice layered with seasonal vegetables and Awadhi spices. Served with choice of plain naan\, garlic naan\, or laccha paratha (crispy flatbread).\n\nDesserts include Gil-e-Firdaus Cr me Br l e\, a pineapple and saffron custard with a caramelized sugar crust\,  Chai-Spiced Tea Kulfi\, served with dark chocolate tuile\, and Shahi Tukda (a royal favorite)\, which is challah bread soaked in saffron syrup and served with vanilla ice cream.\n\nCost is $80 per adult\, and $40 for children under 9 years\, exclusive of tax and gratuity. Complimentary valet.\n\nMother's Day hours are 12 p.m. to 2:30 p.m. for lunch\, and 5 p.m. to 9 p.m. for dinner. \n\nFor reservations\, click here. \n\n\n\nAYRE by Karma at Amrit Ocean Resort is located at 3100 N. Ocean Drive\, Riviera Beach\, FL. For more information\, visit ayrebykarma.com or call (561) 209-7259.
X-ALT-DESC;FMTTYPE=text/html:<p><strong style="font-family:arial\,helvetica\,sans-serif\; font-size:12px">SINGER ISLAND</strong><span style="background-color:transparent\; color:rgb(0\, 0\, 0)">&nbsp\;&ndash\; This Mother&rsquo\;s Day\, families will embark on a culinary escape to India at </span><a href="https://ayrebykarma.com/?utm_source=Amrit_Website&amp\;utm_medium=web&amp\;utm_campaign=AOR2AYRE" style="font-family: arial\, helvetica\, sans-serif\; font-size: 12px\; text-decoration-line: none\;"><span style="background-color:transparent\; color:rgb(0\, 0\, 0)">AYRE by Karma</span></a><span style="background-color:transparent\; color:rgb(0\, 0\, 0)">. No passport required.</span></p>\n\n<p><span style="background-color:transparent\; color:rgb(0\, 0\, 0)">Located at </span><a href="https://www.amritocean.com/dine/?gad_source=1&amp\;gad_campaignid=23387299897&amp\;gbraid=0AAAAAq3AdQ-7XAxAasPE4XV5_xhteTrlp&amp\;gclid=CjwKCAjwyYPOBhBxEiwAgpT8P2Xhk_AmxOIQo8PB8UqejCa4VH9it097Cou7CXEDo5K7S7sJP25OABoCk1kQAvD_BwE" style="text-decoration-line: none\;"><span style="background-color:transparent\; color:rgb(0\, 0\, 0)">Amrit Ocean Resort</span></a><span style="background-color:transparent\; color:rgb(0\, 0\, 0)"> overlooking the Atlantic Ocean\, AYRE&rsquo\;s executive chef Asif Syed<strong> </strong>will present a family-style\, three-course prix fixe menu blending signature Indian flavors with contemporary coastal flair.</span></p>\n\n<p><span style="background-color:transparent\; color:rgb(0\, 0\, 0)">Starter options include </span><strong>Lukhmi</strong><span style="background-color:transparent\; color:rgb(0\, 0\, 0)">\, a </span><span style="background-color:transparent\; color:rgb(0\, 29\, 53)">crispy\, deep-fried </span><span style="background-color:transparent\; color:rgb(0\, 0\, 0)">pastry filled with spiced lamb\, </span><strong>Dahi Bhalla</strong><span style="background-color:transparent\; color:rgb(0\, 0\, 0)">\, chilled lentil fritters dipped in homemade yogurt\, </span><strong>Chicken Jodhpur\, </strong><span style="background-color:transparent\; color:rgb(0\, 0\, 0)">tandoori-roasted and layered with the chef&rsquo\;s signature spice blend</span><strong>\, </strong><span style="background-color:transparent\; color:rgb(0\, 0\, 0)">and </span><strong>Crab and Avocado Causa</strong><span style="background-color:transparent\; color:rgb(0\, 0\, 0)"> served chilled with cr&egrave\;me fraiche and mango chutney.</span></p>\n\n<p><span style="background-color:transparent\; color:rgb(0\, 0\, 0)">Main courses are a love letter to regional Indian cuisine: </span><strong>Stuffed Tandoori Chicken Roulade</strong><span style="background-color:transparent\; color:rgb(0\, 0\, 0)">\, yogurt-marinated with spinach and fenugreek\, </span><strong>Grilled Branzino</strong><span style="background-color:transparent\; color:rgb(0\, 0\, 0)">\, tandoori-marinated and fire-roasted\, </span><strong>Goan Prawn Balch&atilde\;o</strong><span style="background-color:transparent\; color:rgb(0\, 0\, 0)">\, with tangy chilis\, </span><strong>Kashmiri Gushtaba</strong><span style="background-color:transparent\; color:rgb(0\, 0\, 0)">\, tender lamb meatballs in a saffron yogurt gravy\, </span><strong>Paneer Musallam</strong><span style="background-color:transparent\; color:rgb(0\, 0\, 0)">\, roasted paneer in a saffron-almond sauce\, and </span><strong>Lucknowi Vegetable Biryani</strong><span style="background-color:transparent\; color:rgb(0\, 0\, 0)">\, fragrant basmati rice layered with seasonal vegetables and Awadhi spices. Served with choice of plain naan\, garlic naan\, or laccha paratha (crispy flatbread).</span></p>\n\n<p><span style="font-size:12px"><span style="font-family:arial\,helvetica\,sans-serif"><span style="background-color:transparent\; color:rgb(0\, 0\, 0)">Desserts include </span><strong>Gil-e-Firdaus Cr&egrave\;me Br&ucirc\;l&eacute\;e\,</strong><span style="background-color:transparent\; color:rgb(0\, 0\, 0)"> a pineapple and saffron custard with a caramelized sugar crust\,&nbsp\; </span><strong>Chai-Spiced Tea Kulfi</strong><span style="background-color:transparent\; color:rgb(0\, 0\, 0)">\, served with dark chocolate tuile\, and</span><strong> Shahi Tukda</strong><span style="background-color:transparent\; color:rgb(0\, 0\, 0)"> (a royal favorite)\, which is challah bread soaked in saffron syrup and served with vanilla ice cream.</span></span></span></p>\n\n<p><span style="background-color:transparent\; color:rgb(0\, 0\, 0)">Cost is $80 per adult\, and $40 for children under 9 years\, exclusive of tax and gratuity.&nbsp\;</span><span style="color:rgb(0\, 0\, 0)">Complimentary valet.</span></p>\n\n<p><span style="background-color:transparent\; color:rgb(0\, 0\, 0)">Mother&rsquo\;s Day hours are 12 p.m. to 2:30 p.m. for lunch\, and 5 p.m. to 9 p.m. for dinner.&nbsp\;</span></p>\n\n<p><span style="background-color:transparent\; color:rgb(0\, 0\, 0)">For reservations\, click <a href="https://resy.com/cities/riviera-beach-fl-fl/venues/ayre-by-karma?date=2026-05-10&amp\;seats=2">here</a>.&nbsp\;</span><br />\n<br />\n<span style="background-color:transparent\; color:rgb(0\, 0\, 0)">AYRE by Karma at Amrit Ocean Resort is located at 3100 N. Ocean Drive\, Riviera Beach\, FL. For more information\, visit&nbsp\;</span><a href="https://ayrebykarma.com/?utm_source=Amrit_Website&amp\;utm_medium=web&amp\;utm_campaign=AOR2AYRE" style="font-family: arial\, helvetica\, sans-serif\; font-size: 12px\; text-decoration-line: none\;"><span style="background-color:transparent\; color:rgb(0\, 0\, 0)">ayrebykarma.com</span></a><span style="background-color:transparent\; color:rgb(0\, 0\, 0)">&nbsp\;or call (561) 209-7259.</span></p>\n
LOCATION:
UID:e.727.59132
SEQUENCE:3
DTSTAMP:20260423T135538Z
URL:http://membership.npbchamber.com/events/details/mother-s-day-at-ayre-by-karma-59132
END:VEVENT

END:VCALENDAR
